Workbook

Sheet Antrag auf Anerkennung
A1: Antrag auf Anerkennung von Studien- und Prüfungsleistungen
A3: Name, Vorname:
A4: Anschrift:
A5: Telefon, Email:
A6: Bewerber- oder Matrikelnummer:
A7: Anrechnung für folgenden Abschluss/Studiengang: | C7: Bachelor of Engineering Mediziningenieurwesen / PO 2025 | I7: Regelstudienzeit: | K7: 7
A8: Durch Antragsteller/in auszufüllen! | H8: Eintrag durch Prüfer/in bzw. Vorsitzende/n des Prüfungsausschusses
A9: Bereits abgelegte Prüfungsleistungen | F9: Antrag auf Anerkennung
A10: Titel der bereits abgelegten Prüfung** Bitte nur eine Prüfung pro Zeile eintragen! (Bezeichung laut Transcript) | C10: Prüfungsform (Klausur, Hausarbeit, mdl. Prüfung etc.) | D10: Erworbene Credits (laut Transcript) | E10: Note (laut Transcript) | F10: Lfd. Nr. | G10: für folgende Prüfungen: (Bitte nur die laufende Nummer aus der Anlage "Prüfungen Studiengang" eintragen; der Name der Prüfung wird automatisiert ergänzt) | H10: Ja / Nein* | I10: Credits | J10: Über- nommene Note | K10: Antrag geprüft durch:
G11: =IF(F11>0,LEFT(TEXT(VLOOKUP($F11,'Prüfungen Studiengang'!$A$4:$C$1600,2,FALSE),0)&" / "&TEXT(VLOOKUP($F11,'Prüfungen Studiengang'!$A$4:$C$1600,3,FALSE),0),60),"") | I11: =IF(F11>0,LEFT(TEXT(VLOOKUP($F11,'Prüfungen Studiengang'!$A$4:$D$1600,4,FALSE),0),60),"")
G12: =IF(F12>0,LEFT(TEXT(VLOOKUP($F12,'Prüfungen Studiengang'!$A$4:$C$1600,2,FALSE),0)&" / "&TEXT(VLOOKUP($F12,'Prüfungen Studiengang'!$A$4:$C$1600,3,FALSE),0),60),"") | I12: =IF(F12>0,LEFT(TEXT(VLOOKUP($F12,'Prüfungen Studiengang'!$A$4:$D$1600,4,FALSE),0),60),"")
G13: =IF(F13>0,LEFT(TEXT(VLOOKUP($F13,'Prüfungen Studiengang'!$A$4:$C$1600,2,FALSE),0)&" / "&TEXT(VLOOKUP($F13,'Prüfungen Studiengang'!$A$4:$C$1600,3,FALSE),0),60),"") | I13: =IF(F13>0,LEFT(TEXT(VLOOKUP($F13,'Prüfungen Studiengang'!$A$4:$D$1600,4,FALSE),0),60),"")
G14: =IF(F14>0,LEFT(TEXT(VLOOKUP($F14,'Prüfungen Studiengang'!$A$4:$C$1600,2,FALSE),0)&" / "&TEXT(VLOOKUP($F14,'Prüfungen Studiengang'!$A$4:$C$1600,3,FALSE),0),60),"") | I14: =IF(F14>0,LEFT(TEXT(VLOOKUP($F14,'Prüfungen Studiengang'!$A$4:$D$1600,4,FALSE),0),60),"")
G15: =IF(F15>0,LEFT(TEXT(VLOOKUP($F15,'Prüfungen Studiengang'!$A$4:$C$1600,2,FALSE),0)&" / "&TEXT(VLOOKUP($F15,'Prüfungen Studiengang'!$A$4:$C$1600,3,FALSE),0),60),"") | I15: =IF(F15>0,LEFT(TEXT(VLOOKUP($F15,'Prüfungen Studiengang'!$A$4:$D$1600,4,FALSE),0),60),"")
G16: =IF(F16>0,LEFT(TEXT(VLOOKUP($F16,'Prüfungen Studiengang'!$A$4:$C$1600,2,FALSE),0)&" / "&TEXT(VLOOKUP($F16,'Prüfungen Studiengang'!$A$4:$C$1600,3,FALSE),0),60),"") | I16: =IF(F16>0,LEFT(TEXT(VLOOKUP($F16,'Prüfungen Studiengang'!$A$4:$D$1600,4,FALSE),0),60),"")
G17: =IF(F17>0,LEFT(TEXT(VLOOKUP($F17,'Prüfungen Studiengang'!$A$4:$C$1600,2,FALSE),0)&" / "&TEXT(VLOOKUP($F17,'Prüfungen Studiengang'!$A$4:$C$1600,3,FALSE),0),60),"") | I17: =IF(F17>0,LEFT(TEXT(VLOOKUP($F17,'Prüfungen Studiengang'!$A$4:$D$1600,4,FALSE),0),60),"")
G18: =IF(F18>0,LEFT(TEXT(VLOOKUP($F18,'Prüfungen Studiengang'!$A$4:$C$1600,2,FALSE),0)&" / "&TEXT(VLOOKUP($F18,'Prüfungen Studiengang'!$A$4:$C$1600,3,FALSE),0),60),"") | I18: =IF(F18>0,LEFT(TEXT(VLOOKUP($F18,'Prüfungen Studiengang'!$A$4:$D$1600,4,FALSE),0),60),"")
G19: =IF(F19>0,LEFT(TEXT(VLOOKUP($F19,'Prüfungen Studiengang'!$A$4:$C$1600,2,FALSE),0)&" / "&TEXT(VLOOKUP($F19,'Prüfungen Studiengang'!$A$4:$C$1600,3,FALSE),0),60),"") | I19: =IF(F19>0,LEFT(TEXT(VLOOKUP($F19,'Prüfungen Studiengang'!$A$4:$D$1600,4,FALSE),0),60),"")
G20: =IF(F20>0,LEFT(TEXT(VLOOKUP($F20,'Prüfungen Studiengang'!$A$4:$C$1600,2,FALSE),0)&" / "&TEXT(VLOOKUP($F20,'Prüfungen Studiengang'!$A$4:$C$1600,3,FALSE),0),60),"") | I20: =IF(F20>0,LEFT(TEXT(VLOOKUP($F20,'Prüfungen Studiengang'!$A$4:$D$1600,4,FALSE),0),60),"")
G21: =IF(F21>0,LEFT(TEXT(VLOOKUP($F21,'Prüfungen Studiengang'!$A$4:$C$1600,2,FALSE),0)&" / "&TEXT(VLOOKUP($F21,'Prüfungen Studiengang'!$A$4:$C$1600,3,FALSE),0),60),"") | I21: =IF(F21>0,LEFT(TEXT(VLOOKUP($F21,'Prüfungen Studiengang'!$A$4:$D$1600,4,FALSE),0),60),"")
G22: =IF(F22>0,LEFT(TEXT(VLOOKUP($F22,'Prüfungen Studiengang'!$A$4:$C$1600,2,FALSE),0)&" / "&TEXT(VLOOKUP($F22,'Prüfungen Studiengang'!$A$4:$C$1600,3,FALSE),0),60),"") | I22: =IF(F22>0,LEFT(TEXT(VLOOKUP($F22,'Prüfungen Studiengang'!$A$4:$D$1600,4,FALSE),0),60),"")
... G32: =IF(F32>0,LEFT(TEXT(VLOOKUP($F32,'Prüfungen Studiengang'!$A$4:$C$1600,2,FALSE),0)&" / "&TEXT(VLOOKUP($F32,'Prüfungen Studiengang'!$A$4:$C$1600,3,FALSE),0),60),"") | I32: =IF(F32>0,LEFT(TEXT(VLOOKUP($F32,'Prüfungen Studiengang'!$A$4:$D$1600,4,FALSE),0),60),"")
A34: Datum, Unterschrift Antragsteller*in | H34: Datum, Unterschrift PA Vorsitz
A36: ** Einzureichende Unterlagen: | D36: Anlage 1: Transcript of Records
D37: Anlage 2: Auszug aus dem Modulhandbuch
A39: * Ablehnungsgründe:
A40: A - Nichtanerkennung wegen inhaltlicher Inkompatibilität | G40: C - Nichtanerkennung wegen nicht aussagekräftiger Unterlagen
A41: B - Nichtanerkennung wegen anderer vermittelter Kompetenzen | G41: D - Nichtanerkennung aus anderen Gründen
A43: Ausführliche Begründungen zu den Ablehnungen (A - D):
A45: Lfd. Nr. | B45: Grund (A, B, C oder D) | C45: Begründung

Sheet Prüfungen Studiengang
A1: lfd. Nr. | B1: Prüfung aufnehmendes Fach | C1: Prüf. Nr. | D1: ECTS
B2: Pflichtmodule
B3: Grundlagen
A4: 1 | B4: Produkt- und Maschinengestaltung | C4: 805 | D4: 5
A5: 2 | B5: Produkt- und Maschinengestaltung (Studienleistung) | C5: 806 | D5: 0
A6: 3 | B6: Mathematik I | C6: 807 | D6: 5
A7: 4 | B7: Mathematik II | C7: 808 | D7: 5
A8: 5 | B8: Mathematik III | C8: 809 | D8: 5
A9: 6 | B9: Chemie / Physik | C9: 810 | D9: 5
A10: 7 | B10: Chemie / Physik (Labor) | C10: 811 | D10: 0
A11: 8 | B11: Chemie / Physik (Anwesenheitspflicht) | C11: 845 | D11: 0
A12: 9 | B12: Werkstoffe | C12: 812 | D12: 5
A13: 10 | B13: Werkstoffe (Studienleistung) | C13: 813 | D13: 0
A14: 11 | B14: Grundlagen der Medizin A | C14: 343 | D14: 5
A15: 12 | B15: Grundlagen der Medizin A (Studienleistung) | C15: 342 | D15: 0
A16: 13 | B16: Grundlagen der Medizin B | C16: 345 | D16: 5
B17: Ingenieurwissenschaftliche Grundlagen
A18: 14 | B18: Technische Mechanik I - Statik | C18: 814 | D18: 5
A19: 15 | B19: Technische Mechanik II - Festigkeitslehre | C19: 815 | D19: 5
A20: 16 | B20: Technische Mechanik III - Dynamik | C20: 816 | D20: 5
A21: 17 | B21: Technische Mechanik III - Dynamik (Studienleistung 1) | C21: 817 | D21: 0
A22: 18 | B22: Technische Mechanik III - Dynamik (Studienleistung 2) | C22: 818 | D22: 0
A23: 19 | B23: Technische Mechanik III - Dynamik (Studienleistung 3) | C23: 819 | D23: 0
A24: 20 | B24: Maschinenelemente I | C24: 820 | D24: 5
A25: 21 | B25: Maschinenelemente I (Studienleistung) | C25: 821 | D25: 0
A26: 22 | B26: Maschinenelemente II | C26: 822 | D26: 5
A27: 23 | B27: Maschinenelemente II (Studienleistung) | C27: 823 | D27: 0
A28: 24 | B28: Digitale Produktentwicklung I | C28: 824 | D28: 5
A29: 25 | B29: Digitale Produktentwicklung II | C29: 825 | D29: 5
... A36: 32 | B36: Fertigungstechnik (Studienleistung) | C36: 829 | D36: 0
B37: Anwendungsmodule Sport- und Rehatechnik
A38: 33 | B38: Biomechanik I | C38: 830 | D38: 2.5
A39: 34 | B39: Sport- und Trainingslehre I | C39: 831 | D39: 2.5
A40: 35 | B40: Sport- und Trainingslehre II | C40: 832 | D40: 2.5
A41: 36 | B41: Biomechanik II (Studienleistung) | C41: 833 | D41: 2.5
A42: 37 | B42: Zulassung von Medizinprodukten | C42: 575 | D42: 5
A43: 38 | B43: Funktionelle Anatomie | C43: 697 | D43: 5
A44: 39 | B44: Digitale Systeme | C44: 834 | D44: 5
A45: 40 | B45: Grundlagen der Programmierung | C45: 759 | D45: 5
A46: 41 | B46: Medizinische Messtechnik | C46: 568 | D46: 5
...
