Workbook

Sheet Antrag auf Anerkennung
A1: Antrag auf Anerkennung von Studien- und Prüfungsleistungen
A3: Name, Vorname:
A4: Anschrift:
A5: Telefon, Email:
A6: Bewerber- oder Matrikelnummer:
A7: Anrechnung für folgenden Abschluss/Studiengang: | C7: Bachelor of Engineering Energietechnik / PO Version 2024 | I7: Regelstudienzeit: | K7: 7
A8: Durch Antragsteller/in auszufüllen! | H8: Eintrag durch Prüfer/in bzw. Vorsitzende/n des Prüfungsausschusses
A9: Bereits abgelegte Prüfungsleistungen | F9: Antrag auf Anerkennung
A10: Titel der bereits abgelegten Prüfung** Bitte nur eine Prüfung pro Zeile eintragen! (Bezeichung laut Transcript) | C10: Prüfungsform (Klausur, Hausarbeit, mdl. Prüfung etc.) | D10: Erworbene Credits (laut Transcript) | E10: Note (laut Transcript) | F10: Lfd. Nr. | G10: für folgende Prüfungen: (Bitte nur die laufende Nummer aus der Anlage "Prüfungen Studiengang" eintragen; der Name der Prüfung wird automatisiert ergänzt) | H10: Ja / Nein* | I10: Credits | J10: Über- nommene Note | K10: Antrag geprüft durch:
G11: =IF(F11>0,LEFT(TEXT(VLOOKUP($F11,'Prüfungen Studiengang'!$A$1:$C$1987,2,FALSE),0)&" / "&TEXT(VLOOKUP($F11,'Prüfungen Studiengang'!$A$4:$D$79,3,FALSE),0),60),"") | I11: =IF(F11>0,LEFT(TEXT(VLOOKUP($F11,'Prüfungen Studiengang'!$A$1:$D$1921,4,FALSE),0),60),"")
G12: =IF(F12>0,LEFT(TEXT(VLOOKUP($F12,'Prüfungen Studiengang'!$A$1:$C$1987,2,FALSE),0)&" / "&TEXT(VLOOKUP($F12,'Prüfungen Studiengang'!$A$4:$D$79,3,FALSE),0),60),"") | I12: =IF(F12>0,LEFT(TEXT(VLOOKUP($F12,'Prüfungen Studiengang'!$A$1:$D$1921,4,FALSE),0),60),"")
G13: =IF(F13>0,LEFT(TEXT(VLOOKUP($F13,'Prüfungen Studiengang'!$A$1:$C$1987,2,FALSE),0)&" / "&TEXT(VLOOKUP($F13,'Prüfungen Studiengang'!$A$4:$D$79,3,FALSE),0),60),"") | I13: =IF(F13>0,LEFT(TEXT(VLOOKUP($F13,'Prüfungen Studiengang'!$A$1:$D$1921,4,FALSE),0),60),"")
G14: =IF(F14>0,LEFT(TEXT(VLOOKUP($F14,'Prüfungen Studiengang'!$A$1:$C$1987,2,FALSE),0)&" / "&TEXT(VLOOKUP($F14,'Prüfungen Studiengang'!$A$4:$D$79,3,FALSE),0),60),"") | I14: =IF(F14>0,LEFT(TEXT(VLOOKUP($F14,'Prüfungen Studiengang'!$A$1:$D$1921,4,FALSE),0),60),"")
G15: =IF(F15>0,LEFT(TEXT(VLOOKUP($F15,'Prüfungen Studiengang'!$A$1:$C$1987,2,FALSE),0)&" / "&TEXT(VLOOKUP($F15,'Prüfungen Studiengang'!$A$4:$D$79,3,FALSE),0),60),"") | I15: =IF(F15>0,LEFT(TEXT(VLOOKUP($F15,'Prüfungen Studiengang'!$A$1:$D$1921,4,FALSE),0),60),"")
G16: =IF(F16>0,LEFT(TEXT(VLOOKUP($F16,'Prüfungen Studiengang'!$A$1:$C$1987,2,FALSE),0)&" / "&TEXT(VLOOKUP($F16,'Prüfungen Studiengang'!$A$4:$D$79,3,FALSE),0),60),"") | I16: =IF(F16>0,LEFT(TEXT(VLOOKUP($F16,'Prüfungen Studiengang'!$A$1:$D$1921,4,FALSE),0),60),"")
G17: =IF(F17>0,LEFT(TEXT(VLOOKUP($F17,'Prüfungen Studiengang'!$A$1:$C$1987,2,FALSE),0)&" / "&TEXT(VLOOKUP($F17,'Prüfungen Studiengang'!$A$4:$D$79,3,FALSE),0),60),"") | I17: =IF(F17>0,LEFT(TEXT(VLOOKUP($F17,'Prüfungen Studiengang'!$A$1:$D$1921,4,FALSE),0),60),"")
G18: =IF(F18>0,LEFT(TEXT(VLOOKUP($F18,'Prüfungen Studiengang'!$A$1:$C$1987,2,FALSE),0)&" / "&TEXT(VLOOKUP($F18,'Prüfungen Studiengang'!$A$4:$D$79,3,FALSE),0),60),"") | I18: =IF(F18>0,LEFT(TEXT(VLOOKUP($F18,'Prüfungen Studiengang'!$A$1:$D$1921,4,FALSE),0),60),"")
G19: =IF(F19>0,LEFT(TEXT(VLOOKUP($F19,'Prüfungen Studiengang'!$A$1:$C$1987,2,FALSE),0)&" / "&TEXT(VLOOKUP($F19,'Prüfungen Studiengang'!$A$4:$D$79,3,FALSE),0),60),"") | I19: =IF(F19>0,LEFT(TEXT(VLOOKUP($F19,'Prüfungen Studiengang'!$A$1:$D$1921,4,FALSE),0),60),"")
G20: =IF(F20>0,LEFT(TEXT(VLOOKUP($F20,'Prüfungen Studiengang'!$A$1:$C$1987,2,FALSE),0)&" / "&TEXT(VLOOKUP($F20,'Prüfungen Studiengang'!$A$4:$D$79,3,FALSE),0),60),"") | I20: =IF(F20>0,LEFT(TEXT(VLOOKUP($F20,'Prüfungen Studiengang'!$A$1:$D$1921,4,FALSE),0),60),"")
G21: =IF(F21>0,LEFT(TEXT(VLOOKUP($F21,'Prüfungen Studiengang'!$A$1:$C$1987,2,FALSE),0)&" / "&TEXT(VLOOKUP($F21,'Prüfungen Studiengang'!$A$4:$D$79,3,FALSE),0),60),"") | I21: =IF(F21>0,LEFT(TEXT(VLOOKUP($F21,'Prüfungen Studiengang'!$A$1:$D$1921,4,FALSE),0),60),"")
G22: =IF(F22>0,LEFT(TEXT(VLOOKUP($F22,'Prüfungen Studiengang'!$A$1:$C$1987,2,FALSE),0)&" / "&TEXT(VLOOKUP($F22,'Prüfungen Studiengang'!$A$4:$D$79,3,FALSE),0),60),"") | I22: =IF(F22>0,LEFT(TEXT(VLOOKUP($F22,'Prüfungen Studiengang'!$A$1:$D$1921,4,FALSE),0),60),"")
... G32: =IF(F32>0,LEFT(TEXT(VLOOKUP($F32,'Prüfungen Studiengang'!$A$1:$C$1987,2,FALSE),0)&" / "&TEXT(VLOOKUP($F32,'Prüfungen Studiengang'!$A$4:$D$79,3,FALSE),0),60),"") | I32: =IF(F32>0,LEFT(TEXT(VLOOKUP($F32,'Prüfungen Studiengang'!$A$1:$D$1921,4,FALSE),0),60),"")
A34: Datum, Unterschrift Antragsteller*in | H34: Datum, Unterschrift PA Vorsitz
A36: ** Einzureichende Unterlagen: | D36: Anlage 1: Transcript of Records
D37: Anlage 2: Auszug aus dem Modulhandbuch
A39: * Ablehnungsgründe:
A40: A - Nichtanerkennung wegen inhaltlicher Inkompatibilität | G40: C - Nichtanerkennung wegen nicht aussagekräftiger Unterlagen
A41: B - Nichtanerkennung wegen anderer vermittelter Kompetenzen | G41: D - Nichtanerkennung aus anderen Gründen
A43: Ausführliche Begründungen zu den Ablehnungen (A - D):
A45: Lfd. Nr. | B45: Grund (A, B, C oder D) | C45: Begründung

Sheet Prüfungen Studiengang
A1: lfd Nr. | B1: Prüfung aufzunehmendes Fach | C1: Prüf. Nr. | D1: ECTS
B2: Pflichtmodule
B3: Arbeitsmethoden
A4: 1 | B4: Methoden wissenschaftlichen Arbeitens | C4: 455 | D4: 5
A5: 2 | B5: Methoden wissenschaftlichen Arbeitens (Exposé zum Semesterthema) | C5: 631 | D5: 0
A6: 3 | B6: Methoden wissenschaftlichen Arbeitens (Fachvortrag zum Semesterthema) | C6: 632 | D6: 0
B7: Naturwissenschaften
A8: 4 | B8: Informatik I | C8: 456 | D8: 5
A9: 5 | B9: Physik | C9: 300 | D9: 5
A10: 6 | B10: Mathematik I | C10: 301 | D10: 5
A11: 7 | B11: Mathematik II | C11: 633 | D11: 5
A12: 8 | B12: Chemie / Wasserchemie | C12: 472 | D12: 5
A13: 9 | B13: Chemie / Wasserchemie (Labor) | C13: 473 | D13: 0
B14: Ingenieurwissenschaften
A15: 10 | B15: Technische Mechanik | C15: 634 | D15: 5
A16: 11 | B16: Technische Fluidmechanik I | C16: 458 | D16: 5
A17: 12 | B17: Technische Thermodynamik I | C17: 459 | D17: 5
A18: 13 | B18: Technische Thermodynamik I (Labor) | C18: 635 | D18: 0
A19: 14 | B19: Technische Fluidmechanik II | C19: 474 | D19: 5
A20: 15 | B20: Technische Thermodynamik II | C20: 475 | D20: 5
A21: 16 | B21: Technische Thermodynamik II (Labor) | C21: 636 | D21: 0
A22: 17 | B22: Chemische Verfahrenstechnik | C22: 230 | D22: 5
A23: 18 | B23: Elektrotechnik I | C23: 476 | D23: 5
A24: 19 | B24: Werkstofftechnik | C24: 305 | D24: 5
A25: 20 | B25: Wärmeübertragung | C25: 314 | D25: 5
A26: 21 | B26: Wärmeübertragung (Labor) | C26: 148 | D26: 0
... A51: 46 | B51: Regenerative Energiesysteme - Windenergie, Geothermie und Wasserkraft | C51: 656 | D51: 5
B52: Wirtschaft
A53: 47 | B53: Betriebswirtschaftslehre | C53: 648 | D53: 5
B54: Praxismodule
A55: 48 | B55: Praxissemester | C55: 514 | D55: 25
A56: 49 | B56: Abschlussarbeit | C56: 673 | D56: 10
A57: 50 | B57: Abschlussarbeit (Abschlussvortrag) | C57: 674 | D57: 0
B58: Wahlpflichtmodule
A59: 51 | B59: Bauphysik und Energieeinsparverordnung | C59: 512 | D59: 5
A60: 52 | B60: Building Information Modeling | C60: 513 | D60: 5
A61: 53 | B61: Gastechnik II | C61: 502 | D61: 5
A62: 54 | B62: Grundzüge des Architekten- und Ingenieurrechts | C62: 620 | D62: 5
A63: 55 | B63: Informatik II | C63: 503 | D63: 5
A64: 56 | B64: Praxisprojekt I | C64: 657 | D64: 5
...
